BEGIN:VCALENDAR
VERSION:2.0
PRODID:-//hacksw/handcal//NONSGML v1.0//EN
CALSCALE:GREGORIAN
BEGIN:VEVENT
SUMMARY:Associati per Associati - Incontro in presenza: "Dalla Corporate Social Responsibility alla Corporate Sustainability: l’obbligo della “Rendicontazione (bilancio) di Sostenibilità” alla luce della normativa italiana"
DESCRIPTION:Dettagli: https://www.confindustriaemilia.it/flex/cm/pages/ServeBLOB.php/L/IT/IDPagina/105329
LOCATION:Confindustria Emilia Area Centro - Sede di Modena - via Bellinzona 27/a - Modena
DTSTART:20240718T080000Z
DTEND:20240718T100000Z
DTSTAMP:20260420T224255Z
UID:69e6abef241a1
END:VEVENT
END:VCALENDAR