BEGIN:VCALENDAR
VERSION:2.0
PRODID:-//hacksw/handcal//NONSGML v1.0//EN
CALSCALE:GREGORIAN
BEGIN:VEVENT
SUMMARY:VALORI\, PERSONE E CRESCITA D'IMPRESA: Come rendere la propria azienda resiliente in un contesto di azione completamente rivoluzionato.
DESCRIPTION:Dettagli: https://www.confindustriaemilia.it/flex/cm/pages/ServeBLOB.php/L/IT/IDPagina/92702
LOCATION:Webinar -  - 
DTSTART:20200617T123000Z
DTEND:20200617T150000Z
DTSTAMP:20260421T052619Z
UID:69e70a7baeb4e
END:VEVENT
END:VCALENDAR