BEGIN:VCALENDAR
VERSION:2.0
PRODID:-//hacksw/handcal//NONSGML v1.0//EN
CALSCALE:GREGORIAN
BEGIN:VEVENT
SUMMARY:Associati per Associati - Incontro "ESG e accesso al credito. Sostenibilità in azione - Piani di intervento per la valorizzazione delle Imprese"
DESCRIPTION:Dettagli: https://www.confindustriaemilia.it/flex/cm/pages/ServeBLOB.php/L/IT/IDPagina/104466
LOCATION:Club La Meridiana - Via Fiori\, 23 - Casinalbo (Mo)
DTSTART:20240417T153000Z
DTEND:20240417T170000Z
DTSTAMP:20260420T213330Z
UID:69e69baa92ef0
END:VEVENT
END:VCALENDAR