BEGIN:VCALENDAR
VERSION:2.0
PRODID:-//hacksw/handcal//NONSGML v1.0//EN
CALSCALE:GREGORIAN
BEGIN:VEVENT
SUMMARY:Associati per Associati - Incontro "Lascia parlare i tuoi dati e sfrutta le potenzialità dell'AI: 4 casi di successo nel settore industriale"
DESCRIPTION:Dettagli: https://www.confindustriaemilia.it/flex/cm/pages/ServeBLOB.php/L/IT/IDPagina/106266
LOCATION:Confindustria Emilia Area Centro - Sede di Bologna - via S. Domenico 4 - Bologna
DTSTART:20241112T153000Z
DTEND:20241112T190000Z
DTSTAMP:20260420T204850Z
UID:69e69132180a6
END:VEVENT
END:VCALENDAR