BEGIN:VCALENDAR
VERSION:2.0
PRODID:-//hacksw/handcal//NONSGML v1.0//EN
CALSCALE:GREGORIAN
BEGIN:VEVENT
SUMMARY:"Associati per Associati": incontro "AGRIFOOD 4.0: PROSPETTIVE PER IL FUTURO. Ricerca\, innovazione e strumenti a sostegno delle imprese della filiera agroalimentare"
DESCRIPTION:Dettagli: https://www.confindustriaemilia.it/flex/cm/pages/ServeBLOB.php/L/IT/IDPagina/93576
LOCATION:Webinar -  - 
DTSTART:20201015T090000Z
DTEND:20201015T103000Z
DTSTAMP:20260422T151338Z
UID:69e8e5a266629
END:VEVENT
END:VCALENDAR