BEGIN:VCALENDAR
VERSION:2.0
PRODID:-//hacksw/handcal//NONSGML v1.0//EN
CALSCALE:GREGORIAN
BEGIN:VEVENT
SUMMARY:"Associati per Associati": incontro "Quando il branding diventa strategico per il business"
DESCRIPTION:Dettagli: https://www.confindustriaemilia.it/flex/cm/pages/ServeBLOB.php/L/IT/IDPagina/96574
LOCATION:Webinar -  - 
DTSTART:20211006T150000Z
DTEND:20211006T160000Z
DTSTAMP:20260420T033748Z
UID:69e59f8ccea9a
END:VEVENT
END:VCALENDAR