BEGIN:VCALENDAR
VERSION:2.0
PRODID:-//hacksw/handcal//NONSGML v1.0//EN
CALSCALE:GREGORIAN
BEGIN:VEVENT
SUMMARY:"Associati per Associati": incontro "INNOVAZIONE: Diritto o Dovere? La digital transformation caposaldo di un'impresa a lungo termine"
DESCRIPTION:Dettagli: https://www.confindustriaemilia.it/flex/cm/pages/ServeBLOB.php/L/IT/IDPagina/94075
LOCATION:Webinar -  - 
DTSTART:20201201T093000Z
DTEND:20201201T103000Z
DTSTAMP:20260419T194709Z
UID:69e5313d38330
END:VEVENT
END:VCALENDAR