BEGIN:VCALENDAR
VERSION:2.0
PRODID:-//hacksw/handcal//NONSGML v1.0//EN
CALSCALE:GREGORIAN
BEGIN:VEVENT
SUMMARY:Aggiornamento n. 14 COVID-19
DESCRIPTION:Dettagli: https://www.confindustriaemilia.it/flex/cm/pages/ServeBLOB.php/L/IT/IDPagina/93942
LOCATION:Webinar -  - 
DTSTART:20201118T100000Z
DTEND:20201118T120000Z
DTSTAMP:20260422T083803Z
UID:69e888eb749d8
END:VEVENT
END:VCALENDAR