BEGIN:VCALENDAR
VERSION:2.0
PRODID:-//hacksw/handcal//NONSGML v1.0//EN
CALSCALE:GREGORIAN
BEGIN:VEVENT
SUMMARY:"Associati per Associati": incontro "Il modello organizzativo per la sostenibilità. Modello 231 e Sostenibilità: convergenze\, integrazione e vantaggi"
DESCRIPTION:Dettagli: https://www.confindustriaemilia.it/flex/cm/pages/ServeBLOB.php/L/IT/IDPagina/98616
LOCATION:Webinar -  - 
DTSTART:20220512T130000Z
DTEND:20220512T143000Z
DTSTAMP:20260421T083958Z
UID:69e737de00767
END:VEVENT
END:VCALENDAR