BEGIN:VCALENDAR
VERSION:2.0
PRODID:-//hacksw/handcal//NONSGML v1.0//EN
CALSCALE:GREGORIAN
BEGIN:VEVENT
SUMMARY:"Associati per Associati": incontro "Sostenibilità: non solo ambiente!"
DESCRIPTION:Dettagli: https://www.confindustriaemilia.it/flex/cm/pages/ServeBLOB.php/L/IT/IDPagina/99539
LOCATION:Webinar Teams - piattaforma - Microsoft Teams
DTSTART:20220927T123000Z
DTEND:20220927T153000Z
DTSTAMP:20260420T100610Z
UID:69e5fa925b462
END:VEVENT
END:VCALENDAR