BEGIN:VCALENDAR
VERSION:2.0
PRODID:-//hacksw/handcal//NONSGML v1.0//EN
CALSCALE:GREGORIAN
BEGIN:VEVENT
SUMMARY:"Associati per Associati": incontro "Sicurezza\, Efficienza ed Integrazione: i 3 temi chiave per l'impresa che digitalizza"
DESCRIPTION:Dettagli: https://www.confindustriaemilia.it/flex/cm/pages/ServeBLOB.php/L/IT/IDPagina/93575
LOCATION:Webinar -  - 
DTSTART:20201014T093000Z
DTEND:20201014T103000Z
DTSTAMP:20260421T125637Z
UID:69e774054bf42
END:VEVENT
END:VCALENDAR