BEGIN:VCALENDAR
VERSION:2.0
PRODID:-//hacksw/handcal//NONSGML v1.0//EN
CALSCALE:GREGORIAN
BEGIN:VEVENT
SUMMARY:"Associati per Associati": incontro "Cost Saving by Product Value Analysis. Come ridurre i costi dei prodotti attraverso l’Analisi del Valore\, mantenendo standard di qualità e affidabilità elevati"
DESCRIPTION:Dettagli: https://www.confindustriaemilia.it/flex/cm/pages/ServeBLOB.php/L/IT/IDPagina/98606
LOCATION:Webinar -  - 
DTSTART:20220517T143000Z
DTEND:20220517T160000Z
DTSTAMP:20260421T084027Z
UID:69e737fb3f582
END:VEVENT
END:VCALENDAR