BEGIN:VCALENDAR
VERSION:2.0
PRODID:-//hacksw/handcal//NONSGML v1.0//EN
CALSCALE:GREGORIAN
BEGIN:VEVENT
SUMMARY:Prove delle cessioni all'esportazione EXTRAUE e nuove sanzioni dal 01/09/2024 - FARETE
DESCRIPTION:Dettagli: https://www.confindustriaemilia.it/flex/cm/pages/ServeBLOB.php/L/IT/IDPagina/105373
LOCATION:Farete - BolognaFiere - ingresso Nord - Bologna
DTSTART:20240905T120000Z
DTEND:20240905T123000Z
DTSTAMP:20260420T204707Z
UID:69e690cb5bd05
END:VEVENT
END:VCALENDAR