BEGIN:VCALENDAR
VERSION:2.0
PRODID:-//hacksw/handcal//NONSGML v1.0//EN
CALSCALE:GREGORIAN
BEGIN:VEVENT
SUMMARY:ANNULLATO webinar "Come proteggere un marchio: dal mondo fisico all’online"
DESCRIPTION:Dettagli: https://www.confindustriaemilia.it/flex/cm/pages/ServeBLOB.php/L/IT/IDPagina/101671
LOCATION:Webinar Zoom - piattaforma - Zoom
DTSTART:20230522T123000Z
DTEND:20230522T150000Z
DTSTAMP:20260422T010152Z
UID:69e81e00d484b
END:VEVENT
END:VCALENDAR