BEGIN:VCALENDAR
VERSION:2.0
PRODID:-//hacksw/handcal//NONSGML v1.0//EN
CALSCALE:GREGORIAN
BEGIN:VEVENT
SUMMARY:"Associati per Associati": incontro "E-Commerce. Il complesso panorama dei Marketplace e le difficoltà del vendere online all'estero"
DESCRIPTION:Dettagli: https://www.confindustriaemilia.it/flex/cm/pages/ServeBLOB.php/L/IT/IDPagina/93917
LOCATION:Webinar -  - 
DTSTART:20201119T103000Z
DTEND:20201119T120000Z
DTSTAMP:20260422T083811Z
UID:69e888f31049e
END:VEVENT
END:VCALENDAR