BEGIN:VCALENDAR
VERSION:2.0
PRODID:-//hacksw/handcal//NONSGML v1.0//EN
CALSCALE:GREGORIAN
BEGIN:VEVENT
SUMMARY:Made in Italy - Factory tour in FAVA S.p.A. e tavola rotonda su “Outlook e trend del settore agroalimentare”
DESCRIPTION:Dettagli: https://www.confindustriaemilia.it/flex/cm/pages/ServeBLOB.php/L/IT/IDPagina/104482
LOCATION:FAVA SPA - Via IV Novembre 29 - Cento (FE)
DTSTART:20240417T130000Z
DTEND:20240417T170000Z
DTSTAMP:20260420T213432Z
UID:69e69be84eff3
END:VEVENT
END:VCALENDAR