BEGIN:VCALENDAR
VERSION:2.0
PRODID:-//hacksw/handcal//NONSGML v1.0//EN
CALSCALE:GREGORIAN
BEGIN:VEVENT
SUMMARY:"Associati per Associati": incontro "Industria 4.0 e Credito d'Imposta\, scopri i benefici dei progetti d'innovazione"
DESCRIPTION:Dettagli: https://www.confindustriaemilia.it/flex/cm/pages/ServeBLOB.php/L/IT/IDPagina/95695
LOCATION:Webinar -  - 
DTSTART:20210608T080000Z
DTEND:20210608T093000Z
DTSTAMP:20260420T002838Z
UID:69e57336e6071
END:VEVENT
END:VCALENDAR