BEGIN:VCALENDAR
VERSION:2.0
PRODID:-//hacksw/handcal//NONSGML v1.0//EN
CALSCALE:GREGORIAN
BEGIN:VEVENT
SUMMARY:"Associati per Associati": incontro "Le soluzioni SYAC-TB per la sanificazione degli ambienti di lavoro"
DESCRIPTION:Dettagli: https://www.confindustriaemilia.it/flex/cm/pages/ServeBLOB.php/L/IT/IDPagina/92513
LOCATION:Webinar -  - 
DTSTART:20200526T090000Z
DTEND:20200526T103000Z
DTSTAMP:20260420T002136Z
UID:69e57190ca43a
END:VEVENT
END:VCALENDAR