BEGIN:VCALENDAR
VERSION:2.0
PRODID:-//hacksw/handcal//NONSGML v1.0//EN
CALSCALE:GREGORIAN
BEGIN:VEVENT
SUMMARY:Aggiornamento n. 13 COVID-19
DESCRIPTION:Dettagli: https://www.confindustriaemilia.it/flex/cm/pages/ServeBLOB.php/L/IT/IDPagina/93756
LOCATION:Webinar -  - 
DTSTART:20201020T090000Z
DTEND:20201020T110000Z
DTSTAMP:20260419T211732Z
UID:69e5466c1a466
END:VEVENT
END:VCALENDAR