BEGIN:VCALENDAR
VERSION:2.0
PRODID:-//hacksw/handcal//NONSGML v1.0//EN
CALSCALE:GREGORIAN
BEGIN:VEVENT
SUMMARY:"Associati per Associati": incontro "Gli step con cui affrontare il continuo mutare delle condizioni in azienda"
DESCRIPTION:Dettagli: https://www.confindustriaemilia.it/flex/cm/pages/ServeBLOB.php/L/IT/IDPagina/92587
LOCATION:Webinar -  - 
DTSTART:20200527T150000Z
DTEND:20200527T163000Z
DTSTAMP:20260420T002246Z
UID:69e571d6f0bd3
END:VEVENT
END:VCALENDAR