BEGIN:VCALENDAR
VERSION:2.0
PRODID:-//hacksw/handcal//NONSGML v1.0//EN
CALSCALE:GREGORIAN
BEGIN:VEVENT
SUMMARY:"Associati per Associati": incontro "La nuova versione della 231: integrata ed innovativa. Per affermare una nuova visione aziendale coordinata"
DESCRIPTION:Dettagli: https://www.confindustriaemilia.it/flex/cm/pages/ServeBLOB.php/L/IT/IDPagina/93923
LOCATION:Webinar Teams - piattaforma - Microsoft Teams
DTSTART:20201126T133000Z
DTEND:20201126T143000Z
DTSTAMP:20260423T122837Z
UID:69ea107535a68
END:VEVENT
END:VCALENDAR