BEGIN:VCALENDAR
VERSION:2.0
PRODID:-//hacksw/handcal//NONSGML v1.0//EN
CALSCALE:GREGORIAN
BEGIN:VEVENT
SUMMARY:"Associati per Associati": incontro "La mission di un Energy Manager? Ottimizzare"
DESCRIPTION:Dettagli: https://www.confindustriaemilia.it/flex/cm/pages/ServeBLOB.php/L/IT/IDPagina/93894
LOCATION:Webinar -  - 
DTSTART:20201118T133000Z
DTEND:20201118T143000Z
DTSTAMP:20260422T083713Z
UID:69e888b9abc7c
END:VEVENT
END:VCALENDAR