BEGIN:VCALENDAR
VERSION:2.0
PRODID:-//hacksw/handcal//NONSGML v1.0//EN
CALSCALE:GREGORIAN
BEGIN:VEVENT
SUMMARY:Associati per Associati - Incontro "Fare Welfare: welfare aziendale e territoriale\, le novità normative 2024"
DESCRIPTION:Dettagli: https://www.confindustriaemilia.it/flex/cm/pages/ServeBLOB.php/L/IT/IDPagina/104251
LOCATION:Confindustria Emilia Area Centro - Sede di Bologna - via S. Domenico 4 - Bologna
DTSTART:20240418T090000Z
DTEND:20240418T110000Z
DTSTAMP:20260420T213259Z
UID:69e69b8b40479
END:VEVENT
END:VCALENDAR