BEGIN:VCALENDAR
VERSION:2.0
PRODID:-//hacksw/handcal//NONSGML v1.0//EN
CALSCALE:GREGORIAN
BEGIN:VEVENT
SUMMARY:Associati per Associati - Webinar VEM SISTEMI "APP\, spazi e persone: il workplace che funziona davvero"
DESCRIPTION:Dettagli: https://www.confindustriaemilia.it/flex/cm/pages/ServeBLOB.php/L/IT/IDPagina/110493
LOCATION:Webinar -  - 
DTSTART:20260508T100000Z
DTEND:20260508T110000Z
DTSTAMP:20260423T010812Z
UID:69e970fce5ffc
END:VEVENT
END:VCALENDAR