BEGIN:VCALENDAR
VERSION:2.0
PRODID:-//hacksw/handcal//NONSGML v1.0//EN
CALSCALE:GREGORIAN
BEGIN:VEVENT
SUMMARY:REMINDER - La gestione fiscale delle Risorse Umane Paese USA
DESCRIPTION:Dettagli: https://www.confindustriaemilia.it/flex/cm/pages/ServeBLOB.php/L/IT/IDPagina/104796
LOCATION:Webinar Zoom - piattaforma - Zoom
DTSTART:20240618T123000Z
DTEND:20240618T143000Z
DTSTAMP:20260420T224353Z
UID:69e6ac294e388
END:VEVENT
END:VCALENDAR