BEGIN:VCALENDAR
VERSION:2.0
PRODID:-//hacksw/handcal//NONSGML v1.0//EN
CALSCALE:GREGORIAN
BEGIN:VEVENT
SUMMARY:Le garanzie contrattuali e la responsabilità extracontrattuale nella fornitura di beni industriali in Italia e all'Estero
DESCRIPTION:Dettagli: https://www.confindustriaemilia.it/flex/cm/pages/ServeBLOB.php/L/IT/IDPagina/93849
LOCATION:Confindustria Emilia Area Centro - Streaming -  - 
DTSTART:20201110T083000Z
DTEND:20201110T113000Z
DTSTAMP:20260420T065439Z
UID:69e5cdafd652b
END:VEVENT
END:VCALENDAR