BEGIN:VCALENDAR
VERSION:2.0
PRODID:-//hacksw/handcal//NONSGML v1.0//EN
CALSCALE:GREGORIAN
BEGIN:VEVENT
SUMMARY:Incontro in streaming:"Vendita on line (Nazionale ed Internazionale): aspetti legali\, fiscali e contrattuali"
DESCRIPTION:Dettagli: https://www.confindustriaemilia.it/flex/cm/pages/ServeBLOB.php/L/IT/IDPagina/92511
LOCATION:Confindustria Emilia Area Centro - Sede di Bologna - via S. Domenico 4 - Bologna
DTSTART:20200521T123000Z
DTEND:20200521T143000Z
DTSTAMP:20260420T002741Z
UID:69e572fddbe0a
END:VEVENT
END:VCALENDAR