BEGIN:VCALENDAR
VERSION:2.0
PRODID:-//hacksw/handcal//NONSGML v1.0//EN
CALSCALE:GREGORIAN
BEGIN:VEVENT
SUMMARY:"Associati per Associati": incontro "Sito Web Corporate: dalla strategia al progetto"
DESCRIPTION:Dettagli: https://www.confindustriaemilia.it/flex/cm/pages/ServeBLOB.php/L/IT/IDPagina/93048
LOCATION:Webinar -  - 
DTSTART:20200723T090000Z
DTEND:20200723T103000Z
DTSTAMP:20260419T233307Z
UID:69e56633c9801
END:VEVENT
END:VCALENDAR