BEGIN:VCALENDAR
VERSION:2.0
PRODID:-//hacksw/handcal//NONSGML v1.0//EN
CALSCALE:GREGORIAN
BEGIN:VEVENT
SUMMARY:Made in Italy - Evento "Nuovi equilibri geopolitici e impatto sul mercato"
DESCRIPTION:Dettagli: https://www.confindustriaemilia.it/flex/cm/pages/ServeBLOB.php/L/IT/IDPagina/103102
LOCATION:Acetaia Giusti - Strada delle Quattro Ville\, 52 - Lesignana (Mo)
DTSTART:20240619T140000Z
DTEND:20240619T170000Z
DTSTAMP:20260420T222529Z
UID:69e6a7d9e844c
END:VEVENT
END:VCALENDAR