BEGIN:VCALENDAR
VERSION:2.0
PRODID:-//hacksw/handcal//NONSGML v1.0//EN
CALSCALE:GREGORIAN
BEGIN:VEVENT
SUMMARY:Associati per Associati - Incontro "Come l'IT in outsourcing supporta un'azienda full-remote di scala internazionale"
DESCRIPTION:Dettagli: https://www.confindustriaemilia.it/flex/cm/pages/ServeBLOB.php/L/IT/IDPagina/106212
LOCATION:Confindustria Emilia Area Centro - Sede di Bologna - via S. Domenico 4 - Bologna
DTSTART:20241113T153000Z
DTEND:20241113T173000Z
DTSTAMP:20260420T205457Z
UID:69e692a193f6c
END:VEVENT
END:VCALENDAR