BEGIN:VCALENDAR
VERSION:2.0
PRODID:-//hacksw/handcal//NONSGML v1.0//EN
CALSCALE:GREGORIAN
BEGIN:VEVENT
SUMMARY:Associati per Associati  - Webinar Octagona "Avviare\, sviluppare e consolidare nuovi mercati esteri oggi"
DESCRIPTION:Dettagli: https://www.confindustriaemilia.it/flex/cm/pages/ServeBLOB.php/L/IT/IDPagina/110547
LOCATION:Webinar -  - 
DTSTART:20260506T100000Z
DTEND:20260506T110000Z
DTSTAMP:20260423T010935Z
UID:69e9714fd859d
END:VEVENT
END:VCALENDAR