BEGIN:VCALENDAR
VERSION:2.0
PRODID:-//hacksw/handcal//NONSGML v1.0//EN
CALSCALE:GREGORIAN
BEGIN:VEVENT
SUMMARY:Associati per Associati - Incontro: "Principi fondamentali del diritto doganale  e del trasporto internazionale"
DESCRIPTION:Dettagli: https://www.confindustriaemilia.it/flex/cm/pages/ServeBLOB.php/L/IT/IDPagina/105005
LOCATION:Confindustria Emilia Area Centro - Sede di Bologna - via S. Domenico 4 - Bologna
DTSTART:20240612T073000Z
DTEND:20240612T123000Z
DTSTAMP:20260420T224229Z
UID:69e6abd526b2b
END:VEVENT
END:VCALENDAR