BEGIN:VCALENDAR
VERSION:2.0
PRODID:-//hacksw/handcal//NONSGML v1.0//EN
CALSCALE:GREGORIAN
BEGIN:VEVENT
SUMMARY:Associati per Associati - Webinar. "Dal comunicato stampa al piano editoriale su Linkedin: l'importanza per le pmi di dotarsi di un piano di comunicazione"
DESCRIPTION:Dettagli: https://www.confindustriaemilia.it/flex/cm/pages/ServeBLOB.php/L/IT/IDPagina/105068
LOCATION:Webinar Teams - piattaforma - Microsoft Teams
DTSTART:20240613T080000Z
DTEND:20240613T090000Z
DTSTAMP:20260421T000427Z
UID:69e6bf0b30737
END:VEVENT
END:VCALENDAR