BEGIN:VCALENDAR
VERSION:2.0
PRODID:-//hacksw/handcal//NONSGML v1.0//EN
CALSCALE:GREGORIAN
BEGIN:VEVENT
SUMMARY:"Associati per Associati": incontro "La Privacy come processo aziendale. Come il GDPR diventa occasione per un maggiore controllo sulle procedure aziendali" organizzato da Lawsolution
DESCRIPTION:Dettagli: https://www.confindustriaemilia.it/flex/cm/pages/ServeBLOB.php/L/IT/IDPagina/87694
LOCATION:Confindustria Emilia Area Centro - Sede di Modena - via Bellinzona 27/a - Modena
DTSTART:20180705T130000Z
DTEND:20180705T160000Z
DTSTAMP:20260424T201021Z
UID:69ebce2d5adce
END:VEVENT
END:VCALENDAR