BEGIN:VCALENDAR
VERSION:2.0
PRODID:-//hacksw/handcal//NONSGML v1.0//EN
CALSCALE:GREGORIAN
BEGIN:VEVENT
SUMMARY:Sustainability Talks - quarto appuntamento: casi pratici di Diversity Management in azienda
DESCRIPTION:Dettagli: https://www.confindustriaemilia.it/flex/cm/pages/ServeBLOB.php/L/IT/IDPagina/101547
LOCATION:Webinar Zoom - piattaforma - Zoom
DTSTART:20230523T090000Z
DTEND:20230523T103000Z
DTSTAMP:20260422T010153Z
UID:69e81e011e5c4
END:VEVENT
END:VCALENDAR