BEGIN:VCALENDAR
VERSION:2.0
PRODID:-//hacksw/handcal//NONSGML v1.0//EN
CALSCALE:GREGORIAN
BEGIN:VEVENT
SUMMARY:"Associati per Associati": incontro "Metal Additive Manufacturing"
DESCRIPTION:Dettagli: https://www.confindustriaemilia.it/flex/cm/pages/ServeBLOB.php/L/IT/IDPagina/101946
LOCATION:
DTSTART:20230622T140000Z
DTEND:20230622T153000Z
DTSTAMP:20260421T025725Z
UID:69e6e795afb3b
END:VEVENT
END:VCALENDAR