BEGIN:VCALENDAR
VERSION:2.0
PRODID:-//hacksw/handcal//NONSGML v1.0//EN
CALSCALE:GREGORIAN
BEGIN:VEVENT
SUMMARY:Associati per Associati - Evento solo in presenza "NIS 2: la nuova direttiva europea sulla Cybersecurity - Opportunità e obblighi per aziende e PA"
DESCRIPTION:Dettagli: https://www.confindustriaemilia.it/flex/cm/pages/ServeBLOB.php/L/IT/IDPagina/106211
LOCATION:Confindustria Emilia Area Centro - Sede di Modena - via Bellinzona 27/a - Modena
DTSTART:20241106T133000Z
DTEND:20241106T163000Z
DTSTAMP:20260420T190611Z
UID:69e67923a70d2
END:VEVENT
END:VCALENDAR