BEGIN:VCALENDAR
VERSION:2.0
PRODID:-//hacksw/handcal//NONSGML v1.0//EN
CALSCALE:GREGORIAN
BEGIN:VEVENT
SUMMARY:Associati per Associati - Webinar: "Tutela delle persone presenti in azienda: gestione emergenze e sicurezza aziendale"
DESCRIPTION:Dettagli: https://www.confindustriaemilia.it/flex/cm/pages/ServeBLOB.php/L/IT/IDPagina/104544
LOCATION:Webinar Teams - piattaforma - Microsoft Teams
DTSTART:20240509T090000Z
DTEND:20240509T103000Z
DTSTAMP:20260425T164205Z
UID:69eceedd5f0b8
END:VEVENT
END:VCALENDAR