BEGIN:VCALENDAR
VERSION:2.0
PRODID:-//hacksw/handcal//NONSGML v1.0//EN
CALSCALE:GREGORIAN
BEGIN:VEVENT
SUMMARY:La responsabilità degli amministratori alla luce della normativa sugli adeguati assetti aziendali
DESCRIPTION:Dettagli: https://www.confindustriaemilia.it/flex/cm/pages/ServeBLOB.php/L/IT/IDPagina/94972
LOCATION:Webinar -  - 
DTSTART:20210401T123000Z
DTEND:20210401T143000Z
DTSTAMP:20260423T113451Z
UID:69ea03db11ce2
END:VEVENT
END:VCALENDAR