BEGIN:VCALENDAR
VERSION:2.0
PRODID:-//hacksw/handcal//NONSGML v1.0//EN
CALSCALE:GREGORIAN
BEGIN:VEVENT
SUMMARY:"Associati per Associati": incontro "LEEAN: come ottimizzare i sistemi produttivi"
DESCRIPTION:Dettagli: https://www.confindustriaemilia.it/flex/cm/pages/ServeBLOB.php/L/IT/IDPagina/94134
LOCATION:Webinar -  - 
DTSTART:20201210T140000Z
DTEND:20201210T151500Z
DTSTAMP:20260420T014044Z
UID:69e5841c52d27
END:VEVENT
END:VCALENDAR