BEGIN:VCALENDAR
VERSION:2.0
PRODID:-//hacksw/handcal//NONSGML v1.0//EN
CALSCALE:GREGORIAN
BEGIN:VEVENT
SUMMARY:Associati per Associati - Webinar NVALUE "CBAM 2026: impatto su margini e cash flow"
DESCRIPTION:Dettagli: https://www.confindustriaemilia.it/flex/cm/pages/ServeBLOB.php/L/IT/IDPagina/110607
LOCATION:Webinar Teams - piattaforma - Microsoft Teams
DTSTART:20260430T090000Z
DTEND:20260430T101500Z
DTSTAMP:20260421T110319Z
UID:69e75977e2d29
END:VEVENT
END:VCALENDAR