BEGIN:VCALENDAR
VERSION:2.0
PRODID:-//hacksw/handcal//NONSGML v1.0//EN
CALSCALE:GREGORIAN
BEGIN:VEVENT
SUMMARY:"Associati per Associati": incontro "La Rivoluzione Digitale delle Risorse Umane"
DESCRIPTION:Dettagli: https://www.confindustriaemilia.it/flex/cm/pages/ServeBLOB.php/L/IT/IDPagina/97125
LOCATION:Webinar -  - 
DTSTART:20211207T100000Z
DTEND:20211207T110000Z
DTSTAMP:20260420T071811Z
UID:69e5d33332be6
END:VEVENT
END:VCALENDAR