BEGIN:VCALENDAR
VERSION:2.0
PRODID:-//hacksw/handcal//NONSGML v1.0//EN
CALSCALE:GREGORIAN
BEGIN:VEVENT
SUMMARY:Associati per Associati - Incontro "Dipendenti soddisfatti e vantaggi fiscali: il potere dei fringe benefit"
DESCRIPTION:Dettagli: https://www.confindustriaemilia.it/flex/cm/pages/ServeBLOB.php/L/IT/IDPagina/106035
LOCATION:Confindustria Emilia Area Centro - Sede di Modena - via Bellinzona 27/a - Modena
DTSTART:20241105T100000Z
DTEND:20241105T113000Z
DTSTAMP:20260420T184950Z
UID:69e6754ecf9b8
END:VEVENT
END:VCALENDAR