BEGIN:VCALENDAR
VERSION:2.0
PRODID:-//hacksw/handcal//NONSGML v1.0//EN
CALSCALE:GREGORIAN
BEGIN:VEVENT
SUMMARY:REMINDER - Modelli Intrastat 2024 e aggiornamenti sul futuro dei modelli Intrastat dal 2028
DESCRIPTION:Dettagli: https://www.confindustriaemilia.it/flex/cm/pages/ServeBLOB.php/L/IT/IDPagina/104666
LOCATION:Webinar Zoom - piattaforma - Zoom
DTSTART:20240527T073000Z
DTEND:20240527T103000Z
DTSTAMP:20260420T230937Z
UID:69e6b231a5973
END:VEVENT
END:VCALENDAR