BEGIN:VCALENDAR
VERSION:2.0
PRODID:-//hacksw/handcal//NONSGML v1.0//EN
CALSCALE:GREGORIAN
BEGIN:VEVENT
SUMMARY:"Associati per Associati": incontro "Il servizio di lavanderia direttamente nella tua azienda"
DESCRIPTION:Dettagli: https://www.confindustriaemilia.it/flex/cm/pages/ServeBLOB.php/L/IT/IDPagina/96963
LOCATION:Webinar Teams - piattaforma - Microsoft Teams
DTSTART:20211125T090000Z
DTEND:20211125T100000Z
DTSTAMP:20260423T144016Z
UID:69ea2f50524f7
END:VEVENT
END:VCALENDAR