BEGIN:VCALENDAR
VERSION:2.0
PRODID:-//hacksw/handcal//NONSGML v1.0//EN
CALSCALE:GREGORIAN
BEGIN:VEVENT
SUMMARY:"Associati per Associati": incontro "Mobilità sostenibile in emergenza sanitaria"
DESCRIPTION:Dettagli: https://www.confindustriaemilia.it/flex/cm/pages/ServeBLOB.php/L/IT/IDPagina/94681
LOCATION:Webinar Lifesize -  - 
DTSTART:20210211T100000Z
DTEND:20210211T113000Z
DTSTAMP:20260419T211619Z
UID:69e546233d663
END:VEVENT
END:VCALENDAR