BEGIN:VCALENDAR
VERSION:2.0
PRODID:-//hacksw/handcal//NONSGML v1.0//EN
CALSCALE:GREGORIAN
BEGIN:VEVENT
SUMMARY:Guida alla lettura della Polizza di Responsabilità Civile degli Amministratori di Società (D&O - Directors & Officers)
DESCRIPTION:Dettagli: https://www.confindustriaemilia.it/flex/cm/pages/ServeBLOB.php/L/IT/IDPagina/97068
LOCATION:Confindustria Emilia Area Centro - Streaming -  - 
DTSTART:20211202T133000Z
DTEND:20211202T153000Z
DTSTAMP:20260420T071508Z
UID:69e5d27c23d57
END:VEVENT
END:VCALENDAR