BEGIN:VCALENDAR
VERSION:2.0
PRODID:-//hacksw/handcal//NONSGML v1.0//EN
CALSCALE:GREGORIAN
BEGIN:VEVENT
SUMMARY:"Associati per Associati": incontro "L’Arte della Cyber Security: conoscere il nemico per agire di strategia"
DESCRIPTION:Dettagli: https://www.confindustriaemilia.it/flex/cm/pages/ServeBLOB.php/L/IT/IDPagina/101879
LOCATION:Webinar -  - 
DTSTART:20230608T090000Z
DTEND:20230608T103000Z
DTSTAMP:20260421T210955Z
UID:69e7e7a3a52fa
END:VEVENT
END:VCALENDAR