BEGIN:VCALENDAR
VERSION:2.0
PRODID:-//hacksw/handcal//NONSGML v1.0//EN
CALSCALE:GREGORIAN
BEGIN:VEVENT
SUMMARY:"Associati per Associati": incontro "Atos si presenta: un nuovo partner globale per le imprese dell'Emilia Romagna"
DESCRIPTION:Dettagli: https://www.confindustriaemilia.it/flex/cm/pages/ServeBLOB.php/L/IT/IDPagina/96916
LOCATION:Webinar Teams - piattaforma - Microsoft Teams
DTSTART:20211117T150000Z
DTEND:20211117T163000Z
DTSTAMP:20260420T100720Z
UID:69e5fad87f198
END:VEVENT
END:VCALENDAR