BEGIN:VCALENDAR
VERSION:2.0
PRODID:-//hacksw/handcal//NONSGML v1.0//EN
CALSCALE:GREGORIAN
BEGIN:VEVENT
SUMMARY:Webinar: "Analisi dei trend dei mercati di approvvigionamento e dei costi delle materie prime. Situazione attuale e prospettive future per le aziende delle filiere Macchine e Metalli e materiali compositi"
DESCRIPTION:Dettagli: https://www.confindustriaemilia.it/flex/cm/pages/ServeBLOB.php/L/IT/IDPagina/97223
LOCATION:Webinar Teams - piattaforma - Microsoft Teams
DTSTART:20211216T140000Z
DTEND:20211216T160000Z
DTSTAMP:20260420T052953Z
UID:69e5b9d14424f
END:VEVENT
END:VCALENDAR